nrows 8000
ncols 6000
nbands 1
nbits 8
layout bsq
skipbytes 0
ulxmap -3000000.000000
ulymap 3100000.000000
xdim 1000.000000
ydim 1000.000000
