nrows 8996
ncols 9223
nbands 1
nbits 8
layout bsq
skipbytes 0
ulxmap -4487000.000000
ulymap 4480000.000000
xdim 1000.000000
ydim 1000.000000
