nrows 17347
ncols 40031
nbands 1
nbits 8
layout bsq
skipbytes 0
ulxmap -20015000
ulymap 8673000
xdim 1000
ydim 1000
