nrows 12000
ncols 13000
nbands 1
nbits 8
layout bsq
skipbytes 0
ulxmap -8000000.000000
ulymap 6500000.000000
xdim 1000.000000
ydim 1000.000000
