nrows 8000
ncols 9300
nbands 1
nbits 8
layout bsq
skipbytes 0
ulxmap -5000000.000000
ulymap 4054109.000000
xdim 1000.000000
ydim 1000.000000
